BEGIN:VCALENDAR
VERSION:2.0
PRODID:-//eventon.com NONSGML v1.0//EN
CALSCALE:GREGORIAN
METHOD:PUBLISH
BEGIN:VEVENT
UID:69e79c3cad71c
DTSTAMP:20260421T154812Z
DTSTART:20250323T230000Z
DTEND:20250324T003000Z
LOCATION:
SUMMARY:ABBS-SABR Webinar on MLB Pitching Injuries
DESCRIPTION:Join us on Sunday\,  March 23 from 7-8:30pm EST for an expert p
 anel on the recent MLB Report on Pitching Injuries The event is free and op
 en to all SABR and ABBS members. An email with the webinar link will be sen
 t out to members of each organization prior to[..]\nhttps://baseballbiomech
 anics.org/events/abbs-sabr-webinar-on-mlb-pitching-injuries/
URL:https://baseballbiomechanics.org/events/abbs-sabr-webinar-on-mlb-pitching-injuries/
END:VEVENT
END:VCALENDAR