BEGIN:VCALENDAR
VERSION:2.0
PRODID:-//eventon.com NONSGML v1.0//EN
CALSCALE:GREGORIAN
METHOD:PUBLISH
BEGIN:VEVENT
UID:69e7a168a3eaa
DTSTAMP:20260421T161016Z
DTSTART:20250314
DTEND:20250315
LOCATION:ASU Downtown Phoenix Campus 111 E. Taylor St.
SUMMARY:SABR 2025
DESCRIPTION:ABBS is excited to once again partner with Society for American
  Baseball Research (SABR) in highlighting biomechanics in the baseball indu
 stry. In 2025\,  ABBS will once again host a biomechanics panel at SABR wit
 h a panel of biomechanists from across the baseball industry. Abstracts fea
 turing baseball biomechanics research will also[..]\nhttps://baseballbiomec
 hanics.org/events/sabr-2025/
URL:https://baseballbiomechanics.org/events/sabr-2025/
END:VEVENT
END:VCALENDAR