BEGIN:VCALENDAR
VERSION:2.0
PRODID:-//eventon.com NONSGML v1.0//EN
CALSCALE:GREGORIAN
METHOD:PUBLISH
BEGIN:VEVENT
UID:69e8a53e8b7f1
DTSTAMP:20260422T103854Z
DTSTART:20241211T220000Z
DTEND:20241212T000000Z
LOCATION:Hilton Anatole 2201 N Stemmons Fwy
SUMMARY:ABBS Session at MLB Winter Meetings 2024
DESCRIPTION:The American Baseball Biomechanics Society (ABBS) will once aga
 in host a thematic poster session at the MLB Winter Meetings. This will be 
 a 2-hour session on December 11\,  2024 in Dallas\,  Texas. The session wil
 l feature presentations of five biomechanics posters\,  drinks\,  discussio
 n\,  and networking. As an ABBS member\,  you[..]\nhttps://baseballbiomecha
 nics.org/events/abbs-session-at-mlb-winter-meetings-2024/
URL:https://baseballbiomechanics.org/events/abbs-session-at-mlb-winter-meetings-2024/
END:VEVENT
END:VCALENDAR