BEGIN:VCALENDAR
VERSION:2.0
PRODID:-//eventon.com NONSGML v1.0//EN
CALSCALE:GREGORIAN
METHOD:PUBLISH
BEGIN:VEVENT
UID:69e79a97d7d80
DTSTAMP:20260421T154111Z
DTSTART:20240619T120000Z
DTEND:20240620T200000Z
LOCATION:American Sports Medicine Institute (ASMI)
SUMMARY:MLB-ASMI Baseball Medicine Workshop
DESCRIPTION:Major League Baseball\,  in partnership with the American Spor
 ts Medicine Institute (“ASMI”) located in Birmingham\,  Alabama\,  is 
 presenting a two-day baseball medicine workshop on June 19-20\,  2024\,  to
  assist underrepresented talent in sports medicine. The two days of educati
 onal coursework is to be foundational in nature for early career profession
 als and current[..]\nhttps://baseballbiomechanics.org/events/mlb-asmi-baseb
 all-medicine-workshop/
URL:https://baseballbiomechanics.org/events/mlb-asmi-baseball-medicine-workshop/
END:VEVENT
END:VCALENDAR