BEGIN:VCALENDAR
VERSION:2.0
PRODID:-//eventon.com NONSGML v1.0//EN
CALSCALE:GREGORIAN
METHOD:PUBLISH
BEGIN:VEVENT
UID:69e79ff490901
DTSTAMP:20260421T160404Z
DTSTART:20240807T160000Z
DTEND:20240807T180000Z
LOCATION:Monona Terrace 1 John Nolen Drive
SUMMARY:Annual Business Meeting at ASB 2024
DESCRIPTION:The Annual Business Meeting of ABBS will be held in conjunction
  with the upcoming American Society of Biomechanics (ASB) Conference in Mad
 ison\,  WI\,  on Wednesday\,  August 7\,  2024. ABBS members and any other 
 individuals attending ASB who are interested in learning more about our soc
 iety and the rapidly-growing field of[..]\nhttps://baseballbiomechanics.org
 /events/annual-business-meeting-at-asb-2024/
URL:https://baseballbiomechanics.org/events/annual-business-meeting-at-asb-2024/
END:VEVENT
END:VCALENDAR